Workbook

Sheet Office Computer
A1: User | C1: IT employee | G1: new computer | J1: law-inventory@umich.edu
A2: Date | B2: =TODAY() -> 44742 | C2: my uniqname | E2: johnloyd | G2: Computer name/SN
A3: WR# | C3: me | E3: =VLOOKUP($E$2,$M$4:$Q$7,2) -> John Loyd | G3: MAC | J3: =CONCATENATE("Inventory - ", B5) -> Inventory -
A4: user | C4: my phone | E4: =VLOOKUP($E$2,$M$4:$Q$7,3) -> 7-4068 | G4: monitor 1 s/n | J4: =CONCATENATE(B4,", ",B5,", ",B6) -> , , | M4: debh | N4: Debbie Kollar | O4: 7-6242 | Q4: debh@umich.edu
A5: uniqname | C5: my cell | E5: =VLOOKUP($E$2,$M$4:$Q$7,4) -> 223-4792 | G5: monitor 2 s/n | J5: computer: | K5: =H2 | M5: hai | N5: Hai Huynh | O5: 4-9345 | Q5: hai@umich.edu
A6: room | C6: my email | E6: =VLOOKUP($E$2,$M$4:$Q$7,5) -> johnloyd@umich.edu | G6: IP Address | J6: MAC | K6: =H3 | M6: jjude | N6: Jason Jude | O6: 7-3731 | P6: 355-0968 | Q6: jjude@umich.edu
A7: phone | C7: old computer | G7: printer S/N | J7: WR# | K7: =IF(B3=0,"",B3) | M7: johnloyd | N7: John Loyd | O7: 7-4068 | P7: 223-4792 | Q7: johnloyd@umich.edu
A8: user gets admin password | B8: no | C8: s/n | G8: printer model | J8: updated: | K8: =B2 -> 44742
C9: remove frm bigfx | G9: MSPS | J9: OS: | K9: =H11 -> Windows 10
A10: Generic Login | C10: monitor | G10: CrashPlan | J10: static IP | K10: =IF(E13=0,"dynamic", E13) -> dynamic
A11: User | B11: Law-guest | C11: printer | G11: OS | H11: Windows 10 | J11: CrashPlan | K11: =IF(H10=0,"",H10)
A12: Password | B12: leaveit2Beaver | G12: bigfix | H12: no | J12: MSPS | K12: =IF(H9=0,"",H9)
G13: admin password | J13: monitor 1: | K13: =H4
J14: monitor 2: | K14: =H5
B15: p | C15: Computer named Law-serialnumber | J15: printer: | K15: =H7
B16: p | C16: WLMS build record | J16: printer model | K16: =IF(ISBLANK(H8),"",H8)
B17: p | C17: Add to AD (only after WLMS record has been built) '---- add computer to adsroot.itcs.umich.edu | J17: old computer | K17: =IF(E8=0,"",E8)
B18: p | C18: send message to law-inventory | J18: bigfix: | K18: =IF(LEFT(E9)="y", "remove from big fix", "")
B19: p | C19: extend volume to entire hard drive | J19: old monitor | K19: =IF(E10=0,"",E10)
B20: p | C20: encrypted -- required on laptops. | J20: old printer | K20: =IF(E11=0,"",E11)
B21: p | C21: BIOS update
B22: p | C22: ME Firmware
B23: p | C23: Audio driver
B24: p | C24: copy data
B25: p | C25: copy browser prefs
B26: p | C26: map L drive | F26: p | G26: VPN client
B27: p | C27: network printers | F27: p | G27: user aware of windows/office license
B28: p | C28: crashPlan
B29: p | C29: Box Drive | F29: p | G29: add users law-facultyandstaff.
B30: p | C30: Drive & File Stream | F30: p | G30: add printers for law-guest
B31: p | C31: other cloud service
B32: p | C32: additional software?? | F32: Adobe photoshop, inDesign, etc. STATA,

Sheet build from scratch
A1: p | B1: Install Windows 10 | E1: p | F1: rename to LAW-serial number
A2: p | B2: upgrade to 1709 | E2: p | F2: add lawit admin account
A3: p | B3: update BIOS / Firmware / Audio | E3: p
A4: p | E4: p
A5: p | B5: Manage computer - activate the administrator account | E5: p | F5: install BigFix
A6: p | B6: Rename computer | E6: p | F6: anti-virus
A7: p | B7: Create WLMS entry (or modify) | E7: p | F7: K2 Client
A8: p | B8: Add computer to active directory | E8: p
A9: p | B9: Delete temp users, domain users / add law facandstaff | E9: p | F9: MS Office
A10: p | E10: p | F10: update Office
A11: p | B11: Edit Group Policy - Save bitlocker info to AD | E11: p | F11: Acrobat XI
A12: p | B12: Encrypt with Bitlocker | E12: p | F12: FireFox
A13: p | B13: Time Zone | E13: p | F13: Chrome
A14: p | E14: p | F14: VPN profile
A15: p | B15: K2 Client | E15: p
A16: p | B16: CrashPlan | E16: p | F16: CrashPlan
A17: p | B17: MS Office 2016 | C17: customize - no one drive, no skype for business | E17: p | F17: BoxDrive
A18: p | B18: Word Perfect | E18: p
A19: p | B19: Acrobat Pro | E19: p | F19: FileVault - encrypt drive
A20: p | B20: VPN Client | E20: p
A21: p | B21: Box Drive | E21: p
A22: p | B22: FireFox | E22: p
A23: p | B23: Chrome | E23: p
A24: p | B24: Java | E24: p
A25: p | B25: IrfanView | E25: p
A26: p | B26: skype | E26: p
A27: p | B27: 7-ZIP | E27: p
A28: p | B28: bluejeans | E28: p
A29: p | E29: p
A30: p | B30: GoogleAppSync | E30: p
A31: p | B31: Copy Renew.bat to desktop | E31: p
A32: p | E32: p
A33: p | B33: STATA | E33: p
A34: p | B34: Stat/transfer | E34: p
A35: p | B35: Adobe Photoshop | E35: p
A36: p | B36: InDesign | E36: p
A37: p | B37: Illustrator | E37: p
A38: p | B38: DreamWeaver | E38: p
A39: p | E39: p
A40: p | E40: p

Sheet visitor logon
D2: Generic Logon
B3: user | D3: ='Office Computer'!B11 -> Law-guest
B4: password | D4: ='Office Computer'!B12 -> leaveit2Beaver
D8: Personal Logon
B9: user | D9: uniqname
B10: password | D10: your UMICH password*
B12: To use your credentials to log on you need to be a member of Law-FacultyAndStaff or specifically added to this computer
B14: You may need to click on "Other User" (lower left) to change login name.
B21: need help? Submit a work request http://workrequest.law.umich.edu
B23: ='Office Computer'!E3 -> John Loyd
B24: phone: | C24: ='Office Computer'!E4 -> 7-4068
B25: cell: | C25: ='Office Computer'!E5 -> 223-4792
B26: email: | C26: ='Office Computer'!E6 -> johnloyd@umich.edu
B32: rundll32 printui.dll,PrintUIEntry /ga /n "\\law-prtsvr\SH-3178A-Xerox3875-B&W"
B33: rundll32 printui.dll,PrintUIEntry /ga /n "\\law-prtsvr\SH-3178A-Xerox3875-Color"
B34: rundll32 printui.dll,PrintUIEntry /ga /n "\\law-prtsvr\SH-3178B-Xerox3875-B&W"
B35: rundll32 printui.dll,PrintUIEntry /ga /n "\\law-prtsvr\SH-3178B-Xerox3875-Color"
B37: rundll32 printui.dll,PrintUIEntry /ga /n "\\law-prtsvr\LR-951-Xerox3875-B&W"
B38: check which are installed: rundll32 printui.dll,PrintUIEntry /ge
B39: delete one installed by this method: rundll32 printui.dll,PrintUIEntry /gd /n \\server\printer
